BEGIN:VCALENDAR
VERSION:2.0
PRODID:-//AISA - ECPv6.15.20//NONSGML v1.0//EN
CALSCALE:GREGORIAN
METHOD:PUBLISH
X-ORIGINAL-URL:https://aisaonline.org
X-WR-CALDESC:Events for AISA
REFRESH-INTERVAL;VALUE=DURATION:PT1H
X-Robots-Tag:noindex
X-PUBLISHED-TTL:PT1H
BEGIN:VTIMEZONE
TZID:America/Chicago
BEGIN:DAYLIGHT
TZOFFSETFROM:-0600
TZOFFSETTO:-0500
TZNAME:CDT
DTSTART:20250309T080000
END:DAYLIGHT
BEGIN:STANDARD
TZOFFSETFROM:-0500
TZOFFSETTO:-0600
TZNAME:CST
DTSTART:20251102T070000
END:STANDARD
BEGIN:DAYLIGHT
TZOFFSETFROM:-0600
TZOFFSETTO:-0500
TZNAME:CDT
DTSTART:20260308T080000
END:DAYLIGHT
BEGIN:STANDARD
TZOFFSETFROM:-0500
TZOFFSETTO:-0600
TZNAME:CST
DTSTART:20261101T070000
END:STANDARD
BEGIN:DAYLIGHT
TZOFFSETFROM:-0600
TZOFFSETTO:-0500
TZNAME:CDT
DTSTART:20270314T080000
END:DAYLIGHT
BEGIN:STANDARD
TZOFFSETFROM:-0500
TZOFFSETTO:-0600
TZNAME:CST
DTSTART:20271107T070000
END:STANDARD
END:VTIMEZONE
BEGIN:VEVENT
DTSTART;VALUE=DATE:20260421
DTEND;VALUE=DATE:20260423
DTSTAMP:20260419T135420
CREATED:20250429T210315Z
LAST-MODIFIED:20250729T165417Z
UID:5640-1776729600-1776902399@aisaonline.org
SUMMARY:First Round (Regionals) State Baseball Tournament
DESCRIPTION:
URL:https://aisaonline.org/event/first-round-regionals-state-baseball-tournament-2/
END:VEVENT
BEGIN:VEVENT
DTSTART;VALUE=DATE:20260422
DTEND;VALUE=DATE:20260423
DTSTAMP:20260419T135420
CREATED:20250429T212147Z
LAST-MODIFIED:20250429T212147Z
UID:5651-1776816000-1776902399@aisaonline.org
SUMMARY:State SGA Leadership Program Convention
DESCRIPTION:
URL:https://aisaonline.org/event/state-sga-leadership-program-convention-2/
END:VEVENT
END:VCALENDAR