BEGIN:VCALENDAR
VERSION:2.0
PRODID:-//AISA - ECPv6.15.20//NONSGML v1.0//EN
CALSCALE:GREGORIAN
METHOD:PUBLISH
X-ORIGINAL-URL:https://aisaonline.org
X-WR-CALDESC:Events for AISA
REFRESH-INTERVAL;VALUE=DURATION:PT1H
X-Robots-Tag:noindex
X-PUBLISHED-TTL:PT1H
BEGIN:VTIMEZONE
TZID:America/Chicago
BEGIN:DAYLIGHT
TZOFFSETFROM:-0600
TZOFFSETTO:-0500
TZNAME:CDT
DTSTART:20250309T080000
END:DAYLIGHT
BEGIN:STANDARD
TZOFFSETFROM:-0500
TZOFFSETTO:-0600
TZNAME:CST
DTSTART:20251102T070000
END:STANDARD
BEGIN:DAYLIGHT
TZOFFSETFROM:-0600
TZOFFSETTO:-0500
TZNAME:CDT
DTSTART:20260308T080000
END:DAYLIGHT
BEGIN:STANDARD
TZOFFSETFROM:-0500
TZOFFSETTO:-0600
TZNAME:CST
DTSTART:20261101T070000
END:STANDARD
BEGIN:DAYLIGHT
TZOFFSETFROM:-0600
TZOFFSETTO:-0500
TZNAME:CDT
DTSTART:20270314T080000
END:DAYLIGHT
BEGIN:STANDARD
TZOFFSETFROM:-0500
TZOFFSETTO:-0600
TZNAME:CST
DTSTART:20271107T070000
END:STANDARD
END:VTIMEZONE
BEGIN:VEVENT
DTSTART;VALUE=DATE:20260430
DTEND;VALUE=DATE:20260503
DTSTAMP:20260419T135602
CREATED:20250429T213538Z
LAST-MODIFIED:20250429T213538Z
UID:5662-1777507200-1777766399@aisaonline.org
SUMMARY:State Softball Tournament
DESCRIPTION:
URL:https://aisaonline.org/event/state-softball-tournament-2/
LOCATION:Lagoon Park Softball\, 2855 Lagoon Park Dr.\, Montgomery\, Alabama\, 36109
END:VEVENT
BEGIN:VEVENT
DTSTART;VALUE=DATE:20260504
DTEND;VALUE=DATE:20260506
DTSTAMP:20260419T135602
CREATED:20250429T213748Z
LAST-MODIFIED:20250429T213748Z
UID:5664-1777852800-1778025599@aisaonline.org
SUMMARY:State Golf Tournament
DESCRIPTION:
URL:https://aisaonline.org/event/state-golf-tournament-2/
END:VEVENT
BEGIN:VEVENT
DTSTART;VALUE=DATE:20260506
DTEND;VALUE=DATE:20260509
DTSTAMP:20260419T135602
CREATED:20250429T213303Z
LAST-MODIFIED:20250729T165653Z
UID:5660-1778025600-1778284799@aisaonline.org
SUMMARY:Third Round (Final Four) State Baseball Tournament
DESCRIPTION:
URL:https://aisaonline.org/event/third-round-final-four-state-baseball-tournament/
LOCATION:Paterson Field\, 1215 Madison Ave.\, Montgomery\, AL\, 36104\, United States
END:VEVENT
BEGIN:VEVENT
DTSTART;VALUE=DATE:20260513
DTEND;VALUE=DATE:20260515
DTSTAMP:20260419T135602
CREATED:20250429T214030Z
LAST-MODIFIED:20250729T165746Z
UID:5666-1778630400-1778803199@aisaonline.org
SUMMARY:State Baseball Tournament
DESCRIPTION:
URL:https://aisaonline.org/event/state-baseball-tournament-2/
LOCATION:Paterson Field\, 1215 Madison Ave.\, Montgomery\, AL\, 36104\, United States
END:VEVENT
BEGIN:VEVENT
DTSTART;VALUE=DATE:20260525
DTEND;VALUE=DATE:20260526
DTSTAMP:20260419T135602
CREATED:20250429T214710Z
LAST-MODIFIED:20250429T214710Z
UID:5673-1779667200-1779753599@aisaonline.org
SUMMARY:Memorial Day-Holiday
DESCRIPTION:
URL:https://aisaonline.org/event/memorial-day-holiday-2/
END:VEVENT
END:VCALENDAR